Package: ObMiTi Version: 1.18.0 Command: /home/biocbuild/bbs-3.22-bioc/R/bin/R CMD check --install=check:ObMiTi.install-out.txt --library=/home/biocbuild/bbs-3.22-bioc/R/site-library --timings ObMiTi_1.18.0.tar.gz StartedAt: 2025-11-04 12:42:31 -0500 (Tue, 04 Nov 2025) EndedAt: 2025-11-04 12:45:35 -0500 (Tue, 04 Nov 2025) EllapsedTime: 184.2 seconds RetCode: 0 Status: OK CheckDir: ObMiTi.Rcheck Warnings: 0