Package: ObMiTi Version: 1.18.0 Command: /home/biocbuild/bbs-3.22-bioc/R/bin/R CMD build --keep-empty-dirs --no-resave-data ObMiTi StartedAt: 2025-11-04 11:34:39 -0500 (Tue, 04 Nov 2025) EndedAt: 2025-11-04 11:35:21 -0500 (Tue, 04 Nov 2025) EllapsedTime: 41.6 seconds RetCode: 0 Status: OK PackageFile: ObMiTi_1.18.0.tar.gz PackageFileSize: 46.72 KiB