Package: NxtIRFdata Version: 1.16.0 Command: /home/biocbuild/bbs-3.22-bioc/R/bin/R CMD check --install=check:NxtIRFdata.install-out.txt --library=/home/biocbuild/bbs-3.22-bioc/R/site-library --timings NxtIRFdata_1.16.0.tar.gz StartedAt: 2025-11-04 12:42:14 -0500 (Tue, 04 Nov 2025) EndedAt: 2025-11-04 12:44:00 -0500 (Tue, 04 Nov 2025) EllapsedTime: 106.3 seconds RetCode: 0 Status: OK CheckDir: NxtIRFdata.Rcheck Warnings: 0