Package: Neve2006 Version: 0.48.0 Command: /home/biocbuild/bbs-3.22-bioc/R/bin/R CMD check --install=check:Neve2006.install-out.txt --library=/home/biocbuild/bbs-3.22-bioc/R/site-library --timings Neve2006_0.48.0.tar.gz StartedAt: 2025-11-04 12:41:41 -0500 (Tue, 04 Nov 2025) EndedAt: 2025-11-04 12:43:29 -0500 (Tue, 04 Nov 2025) EllapsedTime: 108.0 seconds RetCode: 0 Status: OK CheckDir: Neve2006.Rcheck Warnings: 0