Package: Neve2006 Version: 0.48.0 Command: /home/biocbuild/bbs-3.22-bioc/R/bin/R CMD build --keep-empty-dirs --no-resave-data Neve2006 StartedAt: 2025-11-04 11:34:08 -0500 (Tue, 04 Nov 2025) EndedAt: 2025-11-04 11:34:38 -0500 (Tue, 04 Nov 2025) EllapsedTime: 29.9 seconds RetCode: 0 Status: OK PackageFile: Neve2006_0.48.0.tar.gz PackageFileSize: 67.92 MiB