Package: Neve2006 Version: 0.46.0 Command: /home/biocbuild/bbs-3.21-bioc/R/bin/R CMD check --install=check:Neve2006.install-out.txt --library=/home/biocbuild/bbs-3.21-bioc/R/site-library --timings Neve2006_0.46.0.tar.gz StartedAt: 2025-10-16 12:42:13 -0400 (Thu, 16 Oct 2025) EndedAt: 2025-10-16 12:44:00 -0400 (Thu, 16 Oct 2025) EllapsedTime: 107.2 seconds RetCode: 0 Status: OK CheckDir: Neve2006.Rcheck Warnings: 0