Package: NetActivityData Version: 1.12.0 Command: /home/biocbuild/bbs-3.22-bioc/R/bin/R CMD build --keep-empty-dirs --no-resave-data NetActivityData StartedAt: 2025-10-30 11:42:58 -0400 (Thu, 30 Oct 2025) EndedAt: 2025-10-30 11:43:20 -0400 (Thu, 30 Oct 2025) EllapsedTime: 21.3 seconds RetCode: 0 Status: OK PackageFile: NetActivityData_1.12.0.tar.gz PackageFileSize: 5.269 MiB