Package: NestLink Version: 1.26.0 Command: /home/biocbuild/bbs-3.22-bioc/R/bin/R CMD INSTALL NestLink StartedAt: 2025-10-30 11:06:07 -0400 (Thu, 30 Oct 2025) EndedAt: 2025-10-30 11:06:53 -0400 (Thu, 30 Oct 2025) EllapsedTime: 46.2 seconds RetCode: 0 Status: OK