Package: NestLink Version: 1.24.0 Command: /home/biocbuild/bbs-3.21-bioc/R/bin/R CMD INSTALL NestLink StartedAt: 2025-10-09 11:04:06 -0400 (Thu, 09 Oct 2025) EndedAt: 2025-10-09 11:04:40 -0400 (Thu, 09 Oct 2025) EllapsedTime: 34.1 seconds RetCode: 0 Status: OK