Package: NanoporeRNASeq Version: 1.20.0 Command: /home/biocbuild/bbs-3.22-bioc/R/bin/R CMD INSTALL NanoporeRNASeq StartedAt: 2025-11-04 10:57:06 -0500 (Tue, 04 Nov 2025) EndedAt: 2025-11-04 10:57:15 -0500 (Tue, 04 Nov 2025) EllapsedTime: 8.8 seconds RetCode: 0 Status: OK