Package: NanoporeRNASeq Version: 1.20.0 Command: /home/biocbuild/bbs-3.22-bioc/R/bin/R CMD check --install=check:NanoporeRNASeq.install-out.txt --library=/home/biocbuild/bbs-3.22-bioc/R/site-library --timings NanoporeRNASeq_1.20.0.tar.gz StartedAt: 2025-11-04 12:40:18 -0500 (Tue, 04 Nov 2025) EndedAt: 2025-11-04 12:42:55 -0500 (Tue, 04 Nov 2025) EllapsedTime: 156.9 seconds RetCode: 0 Status: OK CheckDir: NanoporeRNASeq.Rcheck Warnings: 0