Package: NGScopyData Version: 1.30.0 Command: /home/biocbuild/bbs-3.22-bioc/R/bin/R CMD check --install=check:NGScopyData.install-out.txt --library=/home/biocbuild/bbs-3.22-bioc/R/site-library --timings NGScopyData_1.30.0.tar.gz StartedAt: 2025-11-04 12:41:49 -0500 (Tue, 04 Nov 2025) EndedAt: 2025-11-04 12:42:03 -0500 (Tue, 04 Nov 2025) EllapsedTime: 14.3 seconds RetCode: 0 Status: WARNINGS CheckDir: NGScopyData.Rcheck Warnings: 1