Package: NGScopyData Version: 1.28.0 Command: /home/biocbuild/bbs-3.21-bioc/R/bin/R CMD check --install=check:NGScopyData.install-out.txt --library=/home/biocbuild/bbs-3.21-bioc/R/site-library --timings NGScopyData_1.28.0.tar.gz StartedAt: 2025-10-16 12:42:16 -0400 (Thu, 16 Oct 2025) EndedAt: 2025-10-16 12:42:29 -0400 (Thu, 16 Oct 2025) EllapsedTime: 13.3 seconds RetCode: 0 Status: WARNINGS CheckDir: NGScopyData.Rcheck Warnings: 1