Package: NCIgraphData Version: 1.46.0 Command: /home/biocbuild/bbs-3.22-bioc/R/bin/R CMD INSTALL NCIgraphData StartedAt: 2025-11-04 10:55:54 -0500 (Tue, 04 Nov 2025) EndedAt: 2025-11-04 10:56:02 -0500 (Tue, 04 Nov 2025) EllapsedTime: 8.6 seconds RetCode: 0 Status: OK