Package: MouseGastrulationData Version: 1.24.0 Command: /home/biocbuild/bbs-3.22-bioc/R/bin/R CMD check --install=check:MouseGastrulationData.install-out.txt --library=/home/biocbuild/bbs-3.22-bioc/R/site-library --timings MouseGastrulationData_1.24.0.tar.gz StartedAt: 2025-11-04 12:38:14 -0500 (Tue, 04 Nov 2025) EndedAt: 2025-11-04 12:44:43 -0500 (Tue, 04 Nov 2025) EllapsedTime: 388.4 seconds RetCode: 0 Status: OK CheckDir: MouseGastrulationData.Rcheck Warnings: 0