Package: MouseGastrulationData Version: 1.24.0 Command: /home/biocbuild/bbs-3.22-bioc/R/bin/R CMD build --keep-empty-dirs --no-resave-data MouseGastrulationData StartedAt: 2025-10-30 11:40:32 -0400 (Thu, 30 Oct 2025) EndedAt: 2025-10-30 11:42:06 -0400 (Thu, 30 Oct 2025) EllapsedTime: 93.5 seconds RetCode: 0 Status: OK PackageFile: MouseGastrulationData_1.24.0.tar.gz PackageFileSize: 507.6 KiB