Package: MouseAgingData Version: 1.6.0 Command: /home/biocbuild/bbs-3.22-bioc/R/bin/R CMD build --keep-empty-dirs --no-resave-data MouseAgingData StartedAt: 2025-10-30 11:40:30 -0400 (Thu, 30 Oct 2025) EndedAt: 2025-10-30 11:41:44 -0400 (Thu, 30 Oct 2025) EllapsedTime: 73.9 seconds RetCode: 0 Status: OK PackageFile: MouseAgingData_1.6.0.tar.gz PackageFileSize: 1.35 MiB