Package: MicrobiomeBenchmarkData Version: 1.12.0 Command: /home/biocbuild/bbs-3.22-bioc/R/bin/R CMD check --install=check:MicrobiomeBenchmarkData.install-out.txt --library=/home/biocbuild/bbs-3.22-bioc/R/site-library --timings MicrobiomeBenchmarkData_1.12.0.tar.gz StartedAt: 2025-11-04 12:34:49 -0500 (Tue, 04 Nov 2025) EndedAt: 2025-11-04 12:41:06 -0500 (Tue, 04 Nov 2025) EllapsedTime: 376.9 seconds RetCode: 0 Status: OK CheckDir: MicrobiomeBenchmarkData.Rcheck Warnings: 0