Package: MicrobiomeBenchmarkData Version: 1.12.0 Command: /home/biocbuild/bbs-3.22-bioc/R/bin/R CMD build --keep-empty-dirs --no-resave-data MicrobiomeBenchmarkData StartedAt: 2025-11-04 11:30:54 -0500 (Tue, 04 Nov 2025) EndedAt: 2025-11-04 11:31:55 -0500 (Tue, 04 Nov 2025) EllapsedTime: 60.6 seconds RetCode: 0 Status: OK PackageFile: MicrobiomeBenchmarkData_1.12.0.tar.gz PackageFileSize: 712.4 KiB