Package: MethylSeqData Version: 1.20.0 Command: /home/biocbuild/bbs-3.22-bioc/R/bin/R CMD INSTALL MethylSeqData StartedAt: 2025-11-04 10:59:56 -0500 (Tue, 04 Nov 2025) EndedAt: 2025-11-04 11:00:29 -0500 (Tue, 04 Nov 2025) EllapsedTime: 32.7 seconds RetCode: 0 Status: OK