Package: MethylSeqData Version: 1.20.0 Command: /home/biocbuild/bbs-3.22-bioc/R/bin/R CMD check --install=check:MethylSeqData.install-out.txt --library=/home/biocbuild/bbs-3.22-bioc/R/site-library --timings MethylSeqData_1.20.0.tar.gz StartedAt: 2025-11-04 12:34:42 -0500 (Tue, 04 Nov 2025) EndedAt: 2025-11-04 12:38:37 -0500 (Tue, 04 Nov 2025) EllapsedTime: 235.2 seconds RetCode: 0 Status: OK CheckDir: MethylSeqData.Rcheck Warnings: 0