Package: MethylSeqData Version: 1.18.0 Command: /home/biocbuild/bbs-3.21-bioc/R/bin/R CMD check --install=check:MethylSeqData.install-out.txt --library=/home/biocbuild/bbs-3.21-bioc/R/site-library --timings MethylSeqData_1.18.0.tar.gz StartedAt: 2025-10-16 12:34:47 -0400 (Thu, 16 Oct 2025) EndedAt: 2025-10-16 12:38:33 -0400 (Thu, 16 Oct 2025) EllapsedTime: 225.7 seconds RetCode: 0 Status: OK CheckDir: MethylSeqData.Rcheck Warnings: 0