Package: MethylAidData Version: 1.42.0 Command: /home/biocbuild/bbs-3.22-bioc/R/bin/R CMD check --install=check:MethylAidData.install-out.txt --library=/home/biocbuild/bbs-3.22-bioc/R/site-library --timings MethylAidData_1.42.0.tar.gz StartedAt: 2025-11-04 12:34:25 -0500 (Tue, 04 Nov 2025) EndedAt: 2025-11-04 12:37:37 -0500 (Tue, 04 Nov 2025) EllapsedTime: 192.6 seconds RetCode: 0 Status: OK CheckDir: MethylAidData.Rcheck Warnings: 0