Package: MethylAidData Version: 1.40.0 Command: /home/biocbuild/bbs-3.21-bioc/R/bin/R CMD check --install=check:MethylAidData.install-out.txt --library=/home/biocbuild/bbs-3.21-bioc/R/site-library --timings MethylAidData_1.40.0.tar.gz StartedAt: 2025-10-16 12:34:39 -0400 (Thu, 16 Oct 2025) EndedAt: 2025-10-16 12:37:55 -0400 (Thu, 16 Oct 2025) EllapsedTime: 195.8 seconds RetCode: 0 Status: OK CheckDir: MethylAidData.Rcheck Warnings: 0