Package: MetaScope Version: 1.9.10 Command: /home/biocbuild/bbs-3.22-bioc/R/bin/R CMD check --install=check:MetaScope.install-out.txt --library=/home/biocbuild/bbs-3.22-bioc/R/site-library --timings MetaScope_1.9.10.tar.gz StartedAt: 2025-10-28 12:39:25 -0400 (Tue, 28 Oct 2025) EndedAt: 2025-10-28 12:49:43 -0400 (Tue, 28 Oct 2025) EllapsedTime: 618.3 seconds RetCode: 0 Status: OK CheckDir: MetaScope.Rcheck Warnings: 0