Package: MetaScope Version: 1.10.0 Command: /home/biocbuild/bbs-3.22-bioc/R/bin/R CMD build --keep-empty-dirs --no-resave-data MetaScope StartedAt: 2025-10-30 11:38:59 -0400 (Thu, 30 Oct 2025) EndedAt: 2025-10-30 11:48:47 -0400 (Thu, 30 Oct 2025) EllapsedTime: 588.3 seconds RetCode: 0 Status: OK PackageFile: MetaScope_1.10.0.tar.gz PackageFileSize: 3.689 MiB