Package: MerfishData Version: 1.10.0 Command: /home/biocbuild/bbs-3.21-bioc/R/bin/R CMD check --install=check:MerfishData.install-out.txt --library=/home/biocbuild/bbs-3.21-bioc/R/site-library --timings MerfishData_1.10.0.tar.gz StartedAt: 2025-09-30 12:34:07 -0400 (Tue, 30 Sep 2025) EndedAt: 2025-09-30 12:52:55 -0400 (Tue, 30 Sep 2025) EllapsedTime: 1127.4 seconds RetCode: 0 Status: OK CheckDir: MerfishData.Rcheck Warnings: 0