Package: MSMB Version: 1.26.0 Command: /home/biocbuild/bbs-3.21-bioc/R/bin/R CMD check --install=check:MSMB.install-out.txt --library=/home/biocbuild/bbs-3.21-bioc/R/site-library --timings MSMB_1.26.0.tar.gz StartedAt: 2025-10-09 12:39:13 -0400 (Thu, 09 Oct 2025) EndedAt: 2025-10-09 12:39:30 -0400 (Thu, 09 Oct 2025) EllapsedTime: 16.6 seconds RetCode: 0 Status: OK CheckDir: MSMB.Rcheck Warnings: 0