Package: MOFAdata Version: 1.26.0 Command: /home/biocbuild/bbs-3.22-bioc/R/bin/R CMD build --keep-empty-dirs --no-resave-data MOFAdata StartedAt: 2025-11-04 11:31:36 -0500 (Tue, 04 Nov 2025) EndedAt: 2025-11-04 11:32:16 -0500 (Tue, 04 Nov 2025) EllapsedTime: 39.9 seconds RetCode: 0 Status: OK PackageFile: MOFAdata_1.26.0.tar.gz PackageFileSize: 44.23 MiB