Package: MMDiffBamSubset Version: 1.46.0 Command: /home/biocbuild/bbs-3.22-bioc/R/bin/R CMD build --keep-empty-dirs --no-resave-data MMDiffBamSubset StartedAt: 2025-10-30 11:40:01 -0400 (Thu, 30 Oct 2025) EndedAt: 2025-10-30 11:40:40 -0400 (Thu, 30 Oct 2025) EllapsedTime: 39.3 seconds RetCode: 0 Status: OK PackageFile: MMDiffBamSubset_1.46.0.tar.gz PackageFileSize: 632.3 MiB