Package: MEDIPSData Version: 1.46.0 Command: /home/biocbuild/bbs-3.22-bioc/R/bin/R CMD build --keep-empty-dirs --no-resave-data MEDIPSData StartedAt: 2025-10-30 11:37:45 -0400 (Thu, 30 Oct 2025) EndedAt: 2025-10-30 11:37:59 -0400 (Thu, 30 Oct 2025) EllapsedTime: 14.3 seconds RetCode: 0 Status: OK PackageFile: MEDIPSData_1.46.0.tar.gz PackageFileSize: 158.4 MiB