Package: MAQCsubset Version: 1.48.0 Command: /home/biocbuild/bbs-3.22-bioc/R/bin/R CMD check --install=check:MAQCsubset.install-out.txt --library=/home/biocbuild/bbs-3.22-bioc/R/site-library --timings MAQCsubset_1.48.0.tar.gz StartedAt: 2025-11-04 12:33:06 -0500 (Tue, 04 Nov 2025) EndedAt: 2025-11-04 12:38:47 -0500 (Tue, 04 Nov 2025) EllapsedTime: 341.6 seconds RetCode: 0 Status: WARNINGS CheckDir: MAQCsubset.Rcheck Warnings: 1