Package: MACSdata Version: 1.18.0 Command: /home/biocbuild/bbs-3.22-bioc/R/bin/R CMD check --install=check:MACSdata.install-out.txt --library=/home/biocbuild/bbs-3.22-bioc/R/site-library --timings MACSdata_1.18.0.tar.gz StartedAt: 2025-11-04 12:32:40 -0500 (Tue, 04 Nov 2025) EndedAt: 2025-11-04 12:32:51 -0500 (Tue, 04 Nov 2025) EllapsedTime: 11.3 seconds RetCode: 0 Status: OK CheckDir: MACSdata.Rcheck Warnings: 0