Package: MACSdata Version: 1.18.0 Command: /home/biocbuild/bbs-3.22-bioc/R/bin/R CMD build --keep-empty-dirs --no-resave-data MACSdata StartedAt: 2025-11-04 11:28:18 -0500 (Tue, 04 Nov 2025) EndedAt: 2025-11-04 11:28:19 -0500 (Tue, 04 Nov 2025) EllapsedTime: 1.0 seconds RetCode: 0 Status: OK PackageFile: MACSdata_1.18.0.tar.gz PackageFileSize: 2.722 KiB