Package: LiebermanAidenHiC2009 Version: 0.48.0 Command: /home/biocbuild/bbs-3.22-bioc/R/bin/R CMD INSTALL LiebermanAidenHiC2009 StartedAt: 2025-11-04 10:56:34 -0500 (Tue, 04 Nov 2025) EndedAt: 2025-11-04 10:56:39 -0500 (Tue, 04 Nov 2025) EllapsedTime: 5.4 seconds RetCode: 0 Status: OK