Package: LiebermanAidenHiC2009 Version: 0.46.0 Command: /home/biocbuild/bbs-3.21-bioc/R/bin/R CMD check --install=check:LiebermanAidenHiC2009.install-out.txt --library=/home/biocbuild/bbs-3.21-bioc/R/site-library --timings LiebermanAidenHiC2009_0.46.0.tar.gz StartedAt: 2025-10-16 12:31:28 -0400 (Thu, 16 Oct 2025) EndedAt: 2025-10-16 12:33:14 -0400 (Thu, 16 Oct 2025) EllapsedTime: 106.5 seconds RetCode: 0 Status: WARNINGS CheckDir: LiebermanAidenHiC2009.Rcheck Warnings: 2