Package: LegATo Version: 1.4.0 Command: /home/biocbuild/bbs-3.22-bioc/R/bin/R CMD check --install=check:LegATo.install-out.txt --library=/home/biocbuild/bbs-3.22-bioc/R/site-library --timings LegATo_1.4.0.tar.gz StartedAt: 2025-11-04 12:30:09 -0500 (Tue, 04 Nov 2025) EndedAt: 2025-11-04 12:34:49 -0500 (Tue, 04 Nov 2025) EllapsedTime: 279.7 seconds RetCode: 0 Status: OK CheckDir: LegATo.Rcheck Warnings: 0