Package: LegATo Version: 1.2.0 Command: /home/biocbuild/bbs-3.21-bioc/R/bin/R CMD INSTALL LegATo StartedAt: 2025-10-09 11:05:11 -0400 (Thu, 09 Oct 2025) EndedAt: 2025-10-09 11:05:32 -0400 (Thu, 09 Oct 2025) EllapsedTime: 20.7 seconds RetCode: 0 Status: OK