Package: LegATo Version: 1.2.0 Command: /home/biocbuild/bbs-3.21-bioc/R/bin/R CMD check --install=check:LegATo.install-out.txt --library=/home/biocbuild/bbs-3.21-bioc/R/site-library --timings LegATo_1.2.0.tar.gz StartedAt: 2025-10-09 12:30:58 -0400 (Thu, 09 Oct 2025) EndedAt: 2025-10-09 12:35:31 -0400 (Thu, 09 Oct 2025) EllapsedTime: 272.2 seconds RetCode: 0 Status: OK CheckDir: LegATo.Rcheck Warnings: 0