Package: LegATo Version: 1.2.0 Command: /home/biocbuild/bbs-3.21-bioc/R/bin/R CMD build --keep-empty-dirs --no-resave-data LegATo StartedAt: 2025-10-09 11:24:47 -0400 (Thu, 09 Oct 2025) EndedAt: 2025-10-09 11:26:25 -0400 (Thu, 09 Oct 2025) EllapsedTime: 97.8 seconds RetCode: 0 Status: OK PackageFile: LegATo_1.2.0.tar.gz PackageFileSize: 1.236 MiB