Package: KOdata Version: 1.36.0 Command: /home/biocbuild/bbs-3.22-bioc/R/bin/R CMD INSTALL KOdata StartedAt: 2025-11-04 10:55:20 -0500 (Tue, 04 Nov 2025) EndedAt: 2025-11-04 10:55:39 -0500 (Tue, 04 Nov 2025) EllapsedTime: 18.9 seconds RetCode: 0 Status: OK