Package: KOdata Version: 1.36.0 Command: /home/biocbuild/bbs-3.22-bioc/R/bin/R CMD build --keep-empty-dirs --no-resave-data KOdata StartedAt: 2025-11-04 11:26:59 -0500 (Tue, 04 Nov 2025) EndedAt: 2025-11-04 11:27:03 -0500 (Tue, 04 Nov 2025) EllapsedTime: 3.3 seconds RetCode: 0 Status: OK PackageFile: KOdata_1.36.0.tar.gz PackageFileSize: 31.77 MiB