Package: KEGGandMetacoreDzPathwaysGEO Version: 1.28.0 Command: /home/biocbuild/bbs-3.21-bioc/R/bin/R CMD check --install=check:KEGGandMetacoreDzPathwaysGEO.install-out.txt --library=/home/biocbuild/bbs-3.21-bioc/R/site-library --timings KEGGandMetacoreDzPathwaysGEO_1.28.0.tar.gz StartedAt: 2025-10-02 12:30:04 -0400 (Thu, 02 Oct 2025) EndedAt: 2025-10-02 12:31:01 -0400 (Thu, 02 Oct 2025) EllapsedTime: 56.7 seconds RetCode: 0 Status: OK CheckDir: KEGGandMetacoreDzPathwaysGEO.Rcheck Warnings: 0