Package: JohnsonKinaseData Version: 1.6.0 Command: /home/biocbuild/bbs-3.22-bioc/R/bin/R CMD INSTALL JohnsonKinaseData StartedAt: 2025-11-04 10:57:07 -0500 (Tue, 04 Nov 2025) EndedAt: 2025-11-04 10:57:20 -0500 (Tue, 04 Nov 2025) EllapsedTime: 13.6 seconds RetCode: 0 Status: OK