Package: JohnsonKinaseData Version: 1.6.0 Command: /home/biocbuild/bbs-3.22-bioc/R/bin/R CMD check --install=check:JohnsonKinaseData.install-out.txt --library=/home/biocbuild/bbs-3.22-bioc/R/site-library --timings JohnsonKinaseData_1.6.0.tar.gz StartedAt: 2025-11-04 12:28:51 -0500 (Tue, 04 Nov 2025) EndedAt: 2025-11-04 12:32:08 -0500 (Tue, 04 Nov 2025) EllapsedTime: 197.0 seconds RetCode: 0 Status: OK CheckDir: JohnsonKinaseData.Rcheck Warnings: 0