Package: JohnsonKinaseData Version: 1.6.0 Command: /home/biocbuild/bbs-3.22-bioc/R/bin/R CMD build --keep-empty-dirs --no-resave-data JohnsonKinaseData StartedAt: 2025-11-04 11:26:33 -0500 (Tue, 04 Nov 2025) EndedAt: 2025-11-04 11:27:31 -0500 (Tue, 04 Nov 2025) EllapsedTime: 58.2 seconds RetCode: 0 Status: OK PackageFile: JohnsonKinaseData_1.6.0.tar.gz PackageFileSize: 315.1 KiB