Package: JASPAR2016 Version: 1.38.0 Command: /home/biocbuild/bbs-3.22-bioc/R/bin/R CMD check --install=check:JASPAR2016.install-out.txt --library=/home/biocbuild/bbs-3.22-bioc/R/site-library --timings JASPAR2016_1.38.0.tar.gz StartedAt: 2025-11-04 12:28:41 -0500 (Tue, 04 Nov 2025) EndedAt: 2025-11-04 12:28:55 -0500 (Tue, 04 Nov 2025) EllapsedTime: 14.3 seconds RetCode: 0 Status: OK CheckDir: JASPAR2016.Rcheck Warnings: 0