Package: JASPAR2014 Version: 1.46.0 Command: /home/biocbuild/bbs-3.22-bioc/R/bin/R CMD INSTALL JASPAR2014 StartedAt: 2025-10-30 10:57:05 -0400 (Thu, 30 Oct 2025) EndedAt: 2025-10-30 10:57:49 -0400 (Thu, 30 Oct 2025) EllapsedTime: 44.0 seconds RetCode: 0 Status: OK