Package: JASPAR2014 Version: 1.44.0 Command: /home/biocbuild/bbs-3.21-bioc/R/bin/R CMD check --install=check:JASPAR2014.install-out.txt --library=/home/biocbuild/bbs-3.21-bioc/R/site-library --timings JASPAR2014_1.44.0.tar.gz StartedAt: 2025-09-30 12:29:02 -0400 (Tue, 30 Sep 2025) EndedAt: 2025-09-30 12:30:19 -0400 (Tue, 30 Sep 2025) EllapsedTime: 77.3 seconds RetCode: 0 Status: WARNINGS CheckDir: JASPAR2014.Rcheck Warnings: 1