Package: Iyer517 Version: 1.52.0 Command: /home/biocbuild/bbs-3.22-bioc/R/bin/R CMD INSTALL Iyer517 StartedAt: 2025-11-04 10:56:03 -0500 (Tue, 04 Nov 2025) EndedAt: 2025-11-04 10:56:06 -0500 (Tue, 04 Nov 2025) EllapsedTime: 3.3 seconds RetCode: 0 Status: OK